BEGIN:VCALENDAR
VERSION:2.0
PRODID:-//Lugano Scherma - ECPv6.15.20//NONSGML v1.0//EN
CALSCALE:GREGORIAN
METHOD:PUBLISH
X-ORIGINAL-URL:https://luganoscherma.ch
X-WR-CALDESC:Eventi per Lugano Scherma
REFRESH-INTERVAL;VALUE=DURATION:PT1H
X-Robots-Tag:noindex
X-PUBLISHED-TTL:PT1H
BEGIN:VTIMEZONE
TZID:Europe/Rome
BEGIN:DAYLIGHT
TZOFFSETFROM:+0100
TZOFFSETTO:+0200
TZNAME:CEST
DTSTART:20250330T010000
END:DAYLIGHT
BEGIN:STANDARD
TZOFFSETFROM:+0200
TZOFFSETTO:+0100
TZNAME:CET
DTSTART:20251026T010000
END:STANDARD
BEGIN:DAYLIGHT
TZOFFSETFROM:+0100
TZOFFSETTO:+0200
TZNAME:CEST
DTSTART:20260329T010000
END:DAYLIGHT
BEGIN:STANDARD
TZOFFSETFROM:+0200
TZOFFSETTO:+0100
TZNAME:CET
DTSTART:20261025T010000
END:STANDARD
BEGIN:DAYLIGHT
TZOFFSETFROM:+0100
TZOFFSETTO:+0200
TZNAME:CEST
DTSTART:20270328T010000
END:DAYLIGHT
BEGIN:STANDARD
TZOFFSETFROM:+0200
TZOFFSETTO:+0100
TZNAME:CET
DTSTART:20271031T010000
END:STANDARD
END:VTIMEZONE
BEGIN:VEVENT
DTSTART;TZID=Europe/Rome:20260511T080000
DTEND;TZID=Europe/Rome:20260514T190000
DTSTAMP:20260422T013854
CREATED:20260420T175353Z
LAST-MODIFIED:20260420T180712Z
UID:4063-1778486400-1778785200@luganoscherma.ch
SUMMARY:62° Gran Premio Giovanissimi “Renzo Nostini” - Trofeo Kinder “Joy of Moving” - Campionati Italiani di Spada U12/U14
DESCRIPTION:Dal 7 al 14 maggio il Playhall di Riccione ospiterà le pedane del Gran Premio Giovanissimi – i campionati italiani U12/U14. \nOrari di gara \nLUNEDÌ 11 maggio \n\nSPM U14 Allievi 2012: appello in pedana e inizio gara ore 08:45\nSPF U13 Ragazze 2013: appello in pedana e inizio gara ore 12:15\n\nMARTEDÌ 12 maggio \n\nSPM U12 Giovanissimi 2014: appello in pedana e inizio gara ore 08:45\nSPF U12 Bambine 2015: appello in pedana e inizio gara ore 11:45\n\nMERCOLEDÌ 13 maggio \n\nSPM U12 Maschietti 2015: appello in pedana e inizio gara ore 08:45\nSPF U14 Allieve 2012: appello in pedana e inizio gara ore 12:45\n\nGIOVEDÌ 14 maggio \n\nSPM U13 Ragazzi 2013: appello in pedana e inizio gara ore 08:45\nSPF U12 Giovanissime 2014: appello in pedana e inizio gara ore 12:30\n\nGli Atleti devono raggiungere la pedana 10 minuti prima dell’inizio gara. \nI gironi e le relative pedane saranno pubblicati il giorno precedente a ogni competizione sul sito dell’evento. \nSistemazione alberghiera \nE’ possibile prenotare le strutture convenzionate contattando direttamente le strutture o attraverso PROMHOTELS – RICCIONE SPORT (tel. 0541604160) inviando una mail all’indirizzo segreteria@promhotelsriccione.it. \nIndicazioni stradali\nIn auto da autostrada A14: uscita Riccione; seguire indicazioni per Riccione/Misano/Rimini; imboccare Via E. Berlinguer e\, passate 3 rotonde\, svoltare a sx per Viale G. Cesare/SS 16; svoltare a dx per Viale Romagna; girare alla seconda a sx (Viale Carpi) – clicca qui per visualizzare la mappa.
URL:https://luganoscherma.ch/gara/62-gran-premio-giovanissimi-renzo-nostini-trofeo-kinder-joy-of-moving-campionati-italiani-di-spada-u12-u14/
LOCATION:Play Hall Riccione\, Viale Carpi 24\, Riccione\, (RN)\, Italy
CATEGORIES:Campionati Italiani
ATTACH;FMTTYPE=image/png:https://luganoscherma.ch/wp-content/uploads/2026/04/diventa_sponsor_header.png
END:VEVENT
END:VCALENDAR