BEGIN:VCALENDAR
VERSION:2.0
PRODID:-//Lugano Scherma - ECPv6.15.20//NONSGML v1.0//EN
CALSCALE:GREGORIAN
METHOD:PUBLISH
X-ORIGINAL-URL:https://luganoscherma.ch
X-WR-CALDESC:Eventi per Lugano Scherma
REFRESH-INTERVAL;VALUE=DURATION:PT1H
X-Robots-Tag:noindex
X-PUBLISHED-TTL:PT1H
BEGIN:VTIMEZONE
TZID:Europe/Rome
BEGIN:DAYLIGHT
TZOFFSETFROM:+0100
TZOFFSETTO:+0200
TZNAME:CEST
DTSTART:20250330T010000
END:DAYLIGHT
BEGIN:STANDARD
TZOFFSETFROM:+0200
TZOFFSETTO:+0100
TZNAME:CET
DTSTART:20251026T010000
END:STANDARD
BEGIN:DAYLIGHT
TZOFFSETFROM:+0100
TZOFFSETTO:+0200
TZNAME:CEST
DTSTART:20260329T010000
END:DAYLIGHT
BEGIN:STANDARD
TZOFFSETFROM:+0200
TZOFFSETTO:+0100
TZNAME:CET
DTSTART:20261025T010000
END:STANDARD
BEGIN:DAYLIGHT
TZOFFSETFROM:+0100
TZOFFSETTO:+0200
TZNAME:CEST
DTSTART:20270328T010000
END:DAYLIGHT
BEGIN:STANDARD
TZOFFSETFROM:+0200
TZOFFSETTO:+0100
TZNAME:CET
DTSTART:20271031T010000
END:STANDARD
END:VTIMEZONE
BEGIN:VEVENT
DTSTART;TZID=Europe/Rome:20260418T080000
DTEND;TZID=Europe/Rome:20260419T170000
DTSTAMP:20260422T033338
CREATED:20260402T105807Z
LAST-MODIFIED:20260402T105807Z
UID:3444-1776499200-1776618000@luganoscherma.ch
SUMMARY:CNJ Team 2026\, SEPPLICUP U12-U14-U17
DESCRIPTION:Gara a squadre miste per la categoria U12\, mentre femminili e maschili per le categorie U14 e U17.\nIl numero MINIMO di atleti per ciascuna squadra è 3\, il numero massimo è 4. \nOrari di gara: \nSABATO 18 aprile \n\nSPF U17 a squadre: chiusura appello ore 08:00\, inizio gara ore 08:30\nSpada mista a squadre U12: chiusura appello ore 08.00\, inizio gara ore 08:30\nSPM U17 a squadre: chiusura appello ore 10:30\, inizio gara ore 11:00\n\nDOMENICA 19 aprile \n\nSPF U14 a squadre: chiusura appello ore 08:30\, inizio gara ore 09:00\nSPM U14 a squadre: chiusura appello ore 08:30\, inizio gara ore 09:00\n\nLo Staff Tecnico provvederà alla composizione delle squadre e alla pubblicazione dell’elenco degli Atleti per ciascuna.
URL:https://luganoscherma.ch/gara/cnj-team-2026-sepplicup-u12-u14-u17/
LOCATION:Ebnetturnhalle Oberdorf\, Küssnacht am Rigi\, 6403\, Switzerland
CATEGORIES:Circuito Svizzero
ATTACH;FMTTYPE=image/png:https://luganoscherma.ch/wp-content/uploads/2026/03/Assoluti_imm_evid_cal.png
END:VEVENT
END:VCALENDAR