BEGIN:VCALENDAR
VERSION:2.0
PRODID:-//Lugano Scherma - ECPv6.15.20//NONSGML v1.0//EN
CALSCALE:GREGORIAN
METHOD:PUBLISH
X-ORIGINAL-URL:https://luganoscherma.ch
X-WR-CALDESC:Eventi per Lugano Scherma
REFRESH-INTERVAL;VALUE=DURATION:PT1H
X-Robots-Tag:noindex
X-PUBLISHED-TTL:PT1H
BEGIN:VTIMEZONE
TZID:Europe/Rome
BEGIN:DAYLIGHT
TZOFFSETFROM:+0100
TZOFFSETTO:+0200
TZNAME:CEST
DTSTART:20250330T010000
END:DAYLIGHT
BEGIN:STANDARD
TZOFFSETFROM:+0200
TZOFFSETTO:+0100
TZNAME:CET
DTSTART:20251026T010000
END:STANDARD
BEGIN:DAYLIGHT
TZOFFSETFROM:+0100
TZOFFSETTO:+0200
TZNAME:CEST
DTSTART:20260329T010000
END:DAYLIGHT
BEGIN:STANDARD
TZOFFSETFROM:+0200
TZOFFSETTO:+0100
TZNAME:CET
DTSTART:20261025T010000
END:STANDARD
BEGIN:DAYLIGHT
TZOFFSETFROM:+0100
TZOFFSETTO:+0200
TZNAME:CEST
DTSTART:20270328T010000
END:DAYLIGHT
BEGIN:STANDARD
TZOFFSETFROM:+0200
TZOFFSETTO:+0100
TZNAME:CET
DTSTART:20271031T010000
END:STANDARD
END:VTIMEZONE
BEGIN:VEVENT
DTSTART;VALUE=DATE:20260329
DTEND;VALUE=DATE:20260330
DTSTAMP:20260422T031633
CREATED:20260317T220503Z
LAST-MODIFIED:20260317T224555Z
UID:2450-1774742400-1774828799@luganoscherma.ch
SUMMARY:Campionato regionale Assoluti – Spada femminile
DESCRIPTION:Inizio gara: ore 8:30 \nSi qualifica al Campionato Nazionale Gold di Riccione (venerdì 1° maggio) il primo 20% dei partecipanti.
URL:https://luganoscherma.ch/gara/campionato-regionale-assoluti-spada-femminile/
LOCATION:Nuovo Palasport Sigurtà\, Via Ernesto Accordini n.4/A\, Lonato del Garda\, (BS)\, Italy
CATEGORIES:Campionati Italiani
ATTACH;FMTTYPE=image/png:https://luganoscherma.ch/wp-content/uploads/2026/03/Assoluti_imm_evid__women_cal.png
END:VEVENT
BEGIN:VEVENT
DTSTART;VALUE=DATE:20260403
DTEND;VALUE=DATE:20260404
DTSTAMP:20260422T031633
CREATED:20260317T225818Z
LAST-MODIFIED:20260317T231640Z
UID:2466-1775174400-1775260799@luganoscherma.ch
SUMMARY:International Fencing Challenge - Spada femminile U12
DESCRIPTION:Inizio gara: ore 8:45 \nPer il circuito italiano\, con regolamenti diversi da quello svizzero\, sono necessarie spade con: \n\nlama 78 cm per le categorie maschietti/bambine e giovanissimi/e (UNDER 12);\nlama 85 cm per le categorie ragazzi/e e allieve/e (UNDER 14).\n\nSi consiglia di arrivare un’ora prima della propria gara.
URL:https://luganoscherma.ch/gara/international-fencing-challenge-2026/
LOCATION:Centro Sportivo San Filippo\, Via Luigi Bazoli n.10\, Brescia\, (BS)\, Italy
CATEGORIES:Circuito Italiano
ATTACH;FMTTYPE=image/png:https://luganoscherma.ch/wp-content/uploads/2026/03/Assoluti_imm_evid__women_cal.png
END:VEVENT
BEGIN:VEVENT
DTSTART;TZID=Europe/Rome:20260418T080000
DTEND;TZID=Europe/Rome:20260419T170000
DTSTAMP:20260422T031633
CREATED:20260402T105807Z
LAST-MODIFIED:20260402T105807Z
UID:3444-1776499200-1776618000@luganoscherma.ch
SUMMARY:CNJ Team 2026\, SEPPLICUP U12-U14-U17
DESCRIPTION:Gara a squadre miste per la categoria U12\, mentre femminili e maschili per le categorie U14 e U17.\nIl numero MINIMO di atleti per ciascuna squadra è 3\, il numero massimo è 4. \nOrari di gara: \nSABATO 18 aprile \n\nSPF U17 a squadre: chiusura appello ore 08:00\, inizio gara ore 08:30\nSpada mista a squadre U12: chiusura appello ore 08.00\, inizio gara ore 08:30\nSPM U17 a squadre: chiusura appello ore 10:30\, inizio gara ore 11:00\n\nDOMENICA 19 aprile \n\nSPF U14 a squadre: chiusura appello ore 08:30\, inizio gara ore 09:00\nSPM U14 a squadre: chiusura appello ore 08:30\, inizio gara ore 09:00\n\nLo Staff Tecnico provvederà alla composizione delle squadre e alla pubblicazione dell’elenco degli Atleti per ciascuna.
URL:https://luganoscherma.ch/gara/cnj-team-2026-sepplicup-u12-u14-u17/
LOCATION:Ebnetturnhalle Oberdorf\, Küssnacht am Rigi\, 6403\, Switzerland
CATEGORIES:Circuito Svizzero
ATTACH;FMTTYPE=image/png:https://luganoscherma.ch/wp-content/uploads/2026/03/Assoluti_imm_evid_cal.png
END:VEVENT
BEGIN:VEVENT
DTSTART;TZID=Europe/Rome:20260418T080000
DTEND;TZID=Europe/Rome:20260419T170000
DTSTAMP:20260422T031633
CREATED:20260402T112406Z
LAST-MODIFIED:20260402T112406Z
UID:3448-1776499200-1776618000@luganoscherma.ch
SUMMARY:2^ prova Gran Prix Kinder “Joy of Moving” – SPM-SPF U12 e U14
DESCRIPTION:Seconda prova nazionale\, qualificante per la partecipazione al Campionato Italiano a maggio 2026. \nOrari di gara \nSABATO 18 aprile \n\nSPM Ragazzi 2013: appello in pedana e inizio gara ore 08:30\nSPF Bambine 2015: appello in pedana e inizio gara ore 08:30\nSPF Allieve 2012:  appello in pedana e inizio gara ore 11:30\nSPM Maschietti 2015: appello in pedana e inizio gara ore 14:30\n\nDOMENICA 19 aprile \n\nSPM Giovanissimi 2014: appello in pedana e inizio gara ore 08:30\nSPF Giovanissime 2014: appello in pedana e inizio gara ore 08:30\nSPM Allievi 2012:  appello in pedana e inizio gara ore 11:00\nSPF Ragazze 2013: appello in pedana e inizio gara ore 13:30\n\nGli Atleti devono raggiungere la pedana 10 minuti prima dell’inizio gara. \nI gironi e le relative pedane saranno pubblicati il giorno precedente a ogni competizione sul sito dell’evento.
URL:https://luganoscherma.ch/gara/2-prova-gran-prix-kinder-joy-of-moving-spm-spf-u12-e-u14/
LOCATION:Umbriafiere – Padiglione 9\, Piazza Moncada\, Bastia Umbra\, (PG)\, Italy
CATEGORIES:Campionati Italiani
ATTACH;FMTTYPE=image/png:https://luganoscherma.ch/wp-content/uploads/2026/03/Assoluti_imm_evid__women_cal.png
END:VEVENT
BEGIN:VEVENT
DTSTART;TZID=Europe/Rome:20260425T080000
DTEND;TZID=Europe/Rome:20260426T180000
DTSTAMP:20260422T031633
CREATED:20260409T123850Z
LAST-MODIFIED:20260420T175703Z
UID:3471-1777104000-1777226400@luganoscherma.ch
SUMMARY:CNJ 2026 Touche de Basilisk\, Basilea Aprile 2026
DESCRIPTION:Gara per le categorie U12\, U14\, U17\, U20 spada individuale\, femminile e maschile. \nOrari di gara: \nSABATO 25 aprile \n\nSPM U17: chiusura appello ore 08:00\, inizio gara ore 08:30\nSPF U20: chiusura appello ore 08:30\, inizio gara ore 9:00\nSPF U12: chiusura appello ore 09:15\, inizio gara ore 9:45\nSPF U14: chiusura appello ore 11:30\, inizio gara ore 12:00\n\nDOMENICA 26 aprile \n\nSPF U17: chiusura appello ore 08:00\, inizio gara ore 08:30\nSPM U20: chiusura appello ore 08:30\, inizio gara ore 09:00\nSPM U12: chiusura appello ore 09:15\, inizio gara ore 9:45\nSPM U14: chiusura appello ore 11:30\, inizio gara ore 12:00\n\nLogistica:\nÈ possibile scegliere tra\n1. Trasporto e pernottamento autonomi: si consiglia di essere presenti sul luogo di gara 1 ora prima dell’inizio della competizione.\n2. Trasporto e pernottamenti organizzati dal Club.
URL:https://luganoscherma.ch/gara/cnj-2026-touche-de-basilisk-basilea-aprile/
LOCATION:Sporthalle Niederholz\, Niederholzstrasse 95\, Riehen\, BASEL\, 4125\, Switzerland
CATEGORIES:Campionati Svizzeri
ATTACH;FMTTYPE=image/png:https://luganoscherma.ch/wp-content/uploads/2026/04/diventa_sponsor_header.png
END:VEVENT
BEGIN:VEVENT
DTSTART;TZID=Europe/Rome:20260429T080000
DTEND;TZID=Europe/Rome:20260430T170000
DTSTAMP:20260422T031633
CREATED:20260415T081132Z
LAST-MODIFIED:20260420T175519Z
UID:3970-1777449600-1777568400@luganoscherma.ch
SUMMARY:Campionato Nazionale Gold - Riccione U17/U20
DESCRIPTION:Orari di gara \nMERCOLEDÌ 29 aprile \n\nSPM U17 Cadetti 2009-2011: appello in pedana e inizio gara ore 09:00\nSPF U17 Cadette 2009-2011: appello in pedana e inizio gara ore 11:00\n\nGIOVEDÌ 30 aprile \n\nSPF U20 Giovani 2006\, 2007\, 2008: appello in pedana e inizio gara ore 12:00\n\nGli Atleti devono raggiungere la pedana 10 minuti prima dell’inizio gara. \nI gironi e le relative pedane saranno pubblicati il giorno precedente a ogni competizione sul sito dell’evento. \nSistemazione alberghiera \nE’ possibile prenotare le strutture convenzionate contattando direttamente le strutture o attraverso PROMHOTELS – RICCIONE SPORT (tel. 0541604160) inviando una mail all’indirizzo segreteria@promhotelsriccione.it. \nIndicazioni stradali\nIn auto da autostrada A14: uscita Riccione; seguire indicazioni per Riccione/Misano/Rimini; imboccare Via E. Berlinguer e\, passate 3 rotonde\, svoltare a sx per Viale G. Cesare/SS 16; svoltare a dx per Viale Romagna; girare alla seconda a sx (Viale Carpi) – clicca qui per visualizzare la mappa.
URL:https://luganoscherma.ch/gara/campionato-nazionale-gold-riccione-2026/
LOCATION:Play Hall Riccione\, Viale Carpi 24\, Riccione\, (RN)\, Italy
CATEGORIES:Campionati Italiani
ATTACH;FMTTYPE=image/png:https://luganoscherma.ch/wp-content/uploads/2026/04/diventa_sponsor_header.png
END:VEVENT
BEGIN:VEVENT
DTSTART;TZID=Europe/Rome:20260511T080000
DTEND;TZID=Europe/Rome:20260514T190000
DTSTAMP:20260422T031633
CREATED:20260420T175353Z
LAST-MODIFIED:20260420T180712Z
UID:4063-1778486400-1778785200@luganoscherma.ch
SUMMARY:62° Gran Premio Giovanissimi “Renzo Nostini” - Trofeo Kinder “Joy of Moving” - Campionati Italiani di Spada U12/U14
DESCRIPTION:Dal 7 al 14 maggio il Playhall di Riccione ospiterà le pedane del Gran Premio Giovanissimi – i campionati italiani U12/U14. \nOrari di gara \nLUNEDÌ 11 maggio \n\nSPM U14 Allievi 2012: appello in pedana e inizio gara ore 08:45\nSPF U13 Ragazze 2013: appello in pedana e inizio gara ore 12:15\n\nMARTEDÌ 12 maggio \n\nSPM U12 Giovanissimi 2014: appello in pedana e inizio gara ore 08:45\nSPF U12 Bambine 2015: appello in pedana e inizio gara ore 11:45\n\nMERCOLEDÌ 13 maggio \n\nSPM U12 Maschietti 2015: appello in pedana e inizio gara ore 08:45\nSPF U14 Allieve 2012: appello in pedana e inizio gara ore 12:45\n\nGIOVEDÌ 14 maggio \n\nSPM U13 Ragazzi 2013: appello in pedana e inizio gara ore 08:45\nSPF U12 Giovanissime 2014: appello in pedana e inizio gara ore 12:30\n\nGli Atleti devono raggiungere la pedana 10 minuti prima dell’inizio gara. \nI gironi e le relative pedane saranno pubblicati il giorno precedente a ogni competizione sul sito dell’evento. \nSistemazione alberghiera \nE’ possibile prenotare le strutture convenzionate contattando direttamente le strutture o attraverso PROMHOTELS – RICCIONE SPORT (tel. 0541604160) inviando una mail all’indirizzo segreteria@promhotelsriccione.it. \nIndicazioni stradali\nIn auto da autostrada A14: uscita Riccione; seguire indicazioni per Riccione/Misano/Rimini; imboccare Via E. Berlinguer e\, passate 3 rotonde\, svoltare a sx per Viale G. Cesare/SS 16; svoltare a dx per Viale Romagna; girare alla seconda a sx (Viale Carpi) – clicca qui per visualizzare la mappa.
URL:https://luganoscherma.ch/gara/62-gran-premio-giovanissimi-renzo-nostini-trofeo-kinder-joy-of-moving-campionati-italiani-di-spada-u12-u14/
LOCATION:Play Hall Riccione\, Viale Carpi 24\, Riccione\, (RN)\, Italy
CATEGORIES:Campionati Italiani
ATTACH;FMTTYPE=image/png:https://luganoscherma.ch/wp-content/uploads/2026/04/diventa_sponsor_header.png
END:VEVENT
END:VCALENDAR